BEGIN:VCALENDAR
VERSION:2.0
PRODID:-//Mount Albert Grammar School - ECPv5.7.0//NONSGML v1.0//EN
CALSCALE:GREGORIAN
METHOD:PUBLISH
X-WR-CALNAME:Mount Albert Grammar School
X-ORIGINAL-URL:https://www.mags.school.nz
X-WR-CALDESC:Events for Mount Albert Grammar School
BEGIN:VTIMEZONE
TZID:Pacific/Auckland
BEGIN:STANDARD
TZOFFSETFROM:+1300
TZOFFSETTO:+1200
TZNAME:NZST
DTSTART:20240406T140000
END:STANDARD
BEGIN:DAYLIGHT
TZOFFSETFROM:+1200
TZOFFSETTO:+1300
TZNAME:NZDT
DTSTART:20240928T140000
END:DAYLIGHT
END:VTIMEZONE
BEGIN:VEVENT
DTSTART;TZID=Pacific/Auckland:20240828T090000
DTEND;TZID=Pacific/Auckland:20240828T140000
DTSTAMP:20260423T083549
CREATED:20240827T224753Z
LAST-MODIFIED:20240827T224753Z
UID:57325-1724835600-1724853600@www.mags.school.nz
SUMMARY:Y12 & 13 Art History Trip
DESCRIPTION:
URL:https://www.mags.school.nz/event/y12-13-art-history-trip/
LOCATION:Holy Trinity Church
END:VEVENT
BEGIN:VEVENT
DTSTART;TZID=Pacific/Auckland:20240828T093000
DTEND;TZID=Pacific/Auckland:20240828T143000
DTSTAMP:20260423T083549
CREATED:20240626T022408Z
LAST-MODIFIED:20240827T224753Z
UID:56413-1724837400-1724855400@www.mags.school.nz
SUMMARY:Y13 Biology Zoo Trip 13BIL/13BIZ
DESCRIPTION:
URL:https://www.mags.school.nz/event/y13-biology-zoo-trip-13bil-13biz-3/
LOCATION:Auckland Zoo\, Motions Rd\, Western Springs\, Auckland 1022\, New Zealand
END:VEVENT
BEGIN:VEVENT
DTSTART;TZID=Pacific/Auckland:20240828T141500
DTEND;TZID=Pacific/Auckland:20240828T151000
DTSTAMP:20260423T083549
CREATED:20240827T224753Z
LAST-MODIFIED:20240827T224753Z
UID:57326-1724854500-1724857800@www.mags.school.nz
SUMMARY:Mentoring Wesley Intermediate Y12+Y9
DESCRIPTION:
URL:https://www.mags.school.nz/event/mentoring-wesley-intermediate-y12y9/
END:VEVENT
END:VCALENDAR