BEGIN:VCALENDAR
VERSION:2.0
PRODID:-//Mount Albert Grammar School - ECPv5.7.0//NONSGML v1.0//EN
CALSCALE:GREGORIAN
METHOD:PUBLISH
X-WR-CALNAME:Mount Albert Grammar School
X-ORIGINAL-URL:https://www.mags.school.nz
X-WR-CALDESC:Events for Mount Albert Grammar School
BEGIN:VTIMEZONE
TZID:Pacific/Auckland
BEGIN:STANDARD
TZOFFSETFROM:+1300
TZOFFSETTO:+1200
TZNAME:NZST
DTSTART:20210403T140000
END:STANDARD
BEGIN:DAYLIGHT
TZOFFSETFROM:+1200
TZOFFSETTO:+1300
TZNAME:NZDT
DTSTART:20210925T140000
END:DAYLIGHT
END:VTIMEZONE
BEGIN:VEVENT
DTSTART;TZID=Pacific/Auckland:20211216T083000
DTEND;TZID=Pacific/Auckland:20211216T120000
DTSTAMP:20260425T063256
CREATED:20211130T020327Z
LAST-MODIFIED:20211130T020327Z
UID:42068-1639643400-1639656000@www.mags.school.nz
SUMMARY:Year 8 Boys Academic Testing
DESCRIPTION:
URL:https://www.mags.school.nz/event/year-8-boys-academic-testing-2/
END:VEVENT
END:VCALENDAR