BEGIN:VCALENDAR
VERSION:2.0
PRODID:-//Mount Albert Grammar School - ECPv5.7.0//NONSGML v1.0//EN
CALSCALE:GREGORIAN
METHOD:PUBLISH
X-WR-CALNAME:Mount Albert Grammar School
X-ORIGINAL-URL:https://www.mags.school.nz
X-WR-CALDESC:Events for Mount Albert Grammar School
BEGIN:VTIMEZONE
TZID:Pacific/Auckland
BEGIN:STANDARD
TZOFFSETFROM:+1300
TZOFFSETTO:+1200
TZNAME:NZST
DTSTART:20240406T140000
END:STANDARD
BEGIN:DAYLIGHT
TZOFFSETFROM:+1200
TZOFFSETTO:+1300
TZNAME:NZDT
DTSTART:20240928T140000
END:DAYLIGHT
END:VTIMEZONE
BEGIN:VEVENT
DTSTART;TZID=Pacific/Auckland:20241023T151500
DTEND;TZID=Pacific/Auckland:20241023T163000
DTSTAMP:20260426T064906
CREATED:20241009T211025Z
LAST-MODIFIED:20241009T211255Z
UID:57964-1729696500-1729701000@www.mags.school.nz
SUMMARY:Y9 Service Project - Resthome
DESCRIPTION:
URL:https://www.mags.school.nz/event/y9-service-project-resthome-2/
END:VEVENT
END:VCALENDAR