BEGIN:VCALENDAR
VERSION:2.0
PRODID:-//Mount Albert Grammar School - ECPv5.7.0//NONSGML v1.0//EN
CALSCALE:GREGORIAN
METHOD:PUBLISH
X-WR-CALNAME:Mount Albert Grammar School
X-ORIGINAL-URL:https://www.mags.school.nz
X-WR-CALDESC:Events for Mount Albert Grammar School
BEGIN:VTIMEZONE
TZID:Pacific/Auckland
BEGIN:STANDARD
TZOFFSETFROM:+1300
TZOFFSETTO:+1200
TZNAME:NZST
DTSTART:20240406T140000
END:STANDARD
BEGIN:DAYLIGHT
TZOFFSETFROM:+1200
TZOFFSETTO:+1300
TZNAME:NZDT
DTSTART:20240928T140000
END:DAYLIGHT
END:VTIMEZONE
BEGIN:VEVENT
DTSTART;VALUE=DATE:20241023
DTEND;VALUE=DATE:20241024
DTSTAMP:20260426T065021
CREATED:20240207T223313Z
LAST-MODIFIED:20241009T211240Z
UID:54528-1729641600-1729727999@www.mags.school.nz
SUMMARY:Sports Dinner
DESCRIPTION:
URL:https://www.mags.school.nz/event/sports-dinner/
LOCATION:Alexandra Park Raceway\, Greenlane West Road and\, Manukau Road\, Greenlane\, Auckland 1051\, New Zealand
END:VEVENT
END:VCALENDAR