BEGIN:VCALENDAR
VERSION:2.0
PRODID:-//Mount Albert Grammar School - ECPv5.7.0//NONSGML v1.0//EN
CALSCALE:GREGORIAN
METHOD:PUBLISH
X-WR-CALNAME:Mount Albert Grammar School
X-ORIGINAL-URL:https://www.mags.school.nz
X-WR-CALDESC:Events for Mount Albert Grammar School
BEGIN:VTIMEZONE
TZID:Pacific/Auckland
BEGIN:STANDARD
TZOFFSETFROM:+1300
TZOFFSETTO:+1200
TZNAME:NZST
DTSTART:20230401T140000
END:STANDARD
BEGIN:DAYLIGHT
TZOFFSETFROM:+1200
TZOFFSETTO:+1300
TZNAME:NZDT
DTSTART:20230923T140000
END:DAYLIGHT
END:VTIMEZONE
BEGIN:VEVENT
DTSTART;VALUE=DATE:20231203
DTEND;VALUE=DATE:20231204
DTSTAMP:20260426T120341
CREATED:20230907T032241Z
LAST-MODIFIED:20240207T222008Z
UID:52710-1701561600-1701647999@www.mags.school.nz
SUMMARY:Prefects' Camp starts
DESCRIPTION:
URL:https://www.mags.school.nz/event/prefects-camp-starts/
END:VEVENT
END:VCALENDAR