BEGIN:VCALENDAR
VERSION:2.0
PRODID:-//Mount Albert Grammar School - ECPv5.7.0//NONSGML v1.0//EN
CALSCALE:GREGORIAN
METHOD:PUBLISH
X-WR-CALNAME:Mount Albert Grammar School
X-ORIGINAL-URL:https://www.mags.school.nz
X-WR-CALDESC:Events for Mount Albert Grammar School
BEGIN:VTIMEZONE
TZID:Pacific/Auckland
BEGIN:STANDARD
TZOFFSETFROM:+1300
TZOFFSETTO:+1200
TZNAME:NZST
DTSTART:20220402T140000
END:STANDARD
BEGIN:DAYLIGHT
TZOFFSETFROM:+1200
TZOFFSETTO:+1300
TZNAME:NZDT
DTSTART:20220924T140000
END:DAYLIGHT
END:VTIMEZONE
BEGIN:VEVENT
DTSTART;TZID=Pacific/Auckland:20220805T080000
DTEND;TZID=Pacific/Auckland:20220805T150000
DTSTAMP:20260426T155222
CREATED:20220923T034442Z
LAST-MODIFIED:20240207T204341Z
UID:47148-1659686400-1659711600@www.mags.school.nz
SUMMARY:NZSS Squash – Nth Shore Squash Centre\, Takapuna
DESCRIPTION:
URL:https://www.mags.school.nz/event/nzss-squash-nth-shore-squash-centre-takapuna/
END:VEVENT
END:VCALENDAR