BEGIN:VCALENDAR
VERSION:2.0
PRODID:-//Mount Albert Grammar School - ECPv5.7.0//NONSGML v1.0//EN
CALSCALE:GREGORIAN
METHOD:PUBLISH
X-WR-CALNAME:Mount Albert Grammar School
X-ORIGINAL-URL:https://www.mags.school.nz
X-WR-CALDESC:Events for Mount Albert Grammar School
BEGIN:VTIMEZONE
TZID:Pacific/Auckland
BEGIN:STANDARD
TZOFFSETFROM:+1300
TZOFFSETTO:+1200
TZNAME:NZST
DTSTART:20230401T140000
END:STANDARD
BEGIN:DAYLIGHT
TZOFFSETFROM:+1200
TZOFFSETTO:+1300
TZNAME:NZDT
DTSTART:20230923T140000
END:DAYLIGHT
END:VTIMEZONE
BEGIN:VEVENT
DTSTART;VALUE=DATE:20230628
DTEND;VALUE=DATE:20230629
DTSTAMP:20260426T105707
CREATED:20230126T023533Z
LAST-MODIFIED:20240207T221715Z
UID:48785-1687910400-1687996799@www.mags.school.nz
SUMMARY:Annual Dance Concert
DESCRIPTION:
URL:https://www.mags.school.nz/event/annual-dance-concert/
LOCATION:Raye Freedman Arts Centre\, Silver Road\, Newmarket\, Auckland 1023\, New Zealand
END:VEVENT
END:VCALENDAR