BEGIN:VCALENDAR
VERSION:2.0
PRODID:-//Mount Albert Grammar School - ECPv5.7.0//NONSGML v1.0//EN
CALSCALE:GREGORIAN
METHOD:PUBLISH
X-WR-CALNAME:Mount Albert Grammar School
X-ORIGINAL-URL:https://www.mags.school.nz
X-WR-CALDESC:Events for Mount Albert Grammar School
BEGIN:VTIMEZONE
TZID:Pacific/Auckland
BEGIN:STANDARD
TZOFFSETFROM:+1300
TZOFFSETTO:+1200
TZNAME:NZST
DTSTART:20210403T140000
END:STANDARD
BEGIN:DAYLIGHT
TZOFFSETFROM:+1200
TZOFFSETTO:+1300
TZNAME:NZDT
DTSTART:20210925T140000
END:DAYLIGHT
END:VTIMEZONE
BEGIN:VEVENT
DTSTART;VALUE=DATE:20210815
DTEND;VALUE=DATE:20210816
DTSTAMP:20260426T110404
CREATED:20210826T031704Z
LAST-MODIFIED:20220413T214530Z
UID:41387-1628985600-1629071999@www.mags.school.nz
SUMMARY:Ak College Rock Climbing - Extreme Edge\,Panmure
DESCRIPTION:8:00am – 2:30pm
URL:https://www.mags.school.nz/event/ak-college-rock-climbing-extreme-edgepanmure/
END:VEVENT
END:VCALENDAR