BEGIN:VCALENDAR
VERSION:2.0
PRODID:-//Mount Albert Grammar School - ECPv5.7.0//NONSGML v1.0//EN
CALSCALE:GREGORIAN
METHOD:PUBLISH
X-WR-CALNAME:Mount Albert Grammar School
X-ORIGINAL-URL:https://www.mags.school.nz
X-WR-CALDESC:Events for Mount Albert Grammar School
BEGIN:VTIMEZONE
TZID:Pacific/Auckland
BEGIN:STANDARD
TZOFFSETFROM:+1300
TZOFFSETTO:+1200
TZNAME:NZST
DTSTART:20240406T140000
END:STANDARD
BEGIN:DAYLIGHT
TZOFFSETFROM:+1200
TZOFFSETTO:+1300
TZNAME:NZDT
DTSTART:20240928T140000
END:DAYLIGHT
END:VTIMEZONE
BEGIN:VEVENT
DTSTART;TZID=Pacific/Auckland:20240816T084000
DTEND;TZID=Pacific/Auckland:20240816T151000
DTSTAMP:20260423T174355
CREATED:20240814T183903Z
LAST-MODIFIED:20240815T015154Z
UID:56961-1723797600-1723821000@www.mags.school.nz
SUMMARY:12OE- Wero Whitewater Park & Vertical Adventure
DESCRIPTION:
URL:https://www.mags.school.nz/event/12oe-wero-whitewater-park-vertical-adventure/
END:VEVENT
END:VCALENDAR