BEGIN:VCALENDAR
VERSION:2.0
PRODID:-//Mount Albert Grammar School - ECPv5.7.0//NONSGML v1.0//EN
CALSCALE:GREGORIAN
METHOD:PUBLISH
X-WR-CALNAME:Mount Albert Grammar School
X-ORIGINAL-URL:https://www.mags.school.nz
X-WR-CALDESC:Events for Mount Albert Grammar School
BEGIN:VTIMEZONE
TZID:Pacific/Auckland
BEGIN:STANDARD
TZOFFSETFROM:+1300
TZOFFSETTO:+1200
TZNAME:NZST
DTSTART:20210403T140000
END:STANDARD
BEGIN:DAYLIGHT
TZOFFSETFROM:+1200
TZOFFSETTO:+1300
TZNAME:NZDT
DTSTART:20210925T140000
END:DAYLIGHT
END:VTIMEZONE
BEGIN:VEVENT
DTSTART;VALUE=DATE:20210819
DTEND;VALUE=DATE:20210820
DTSTAMP:20260426T005701
CREATED:20210803T033028Z
LAST-MODIFIED:20220413T214930Z
UID:40897-1629331200-1629417599@www.mags.school.nz
SUMMARY:11DR1\, 12DR1/3\, 13DR1\, 13DRA - Q Theatre\, City
DESCRIPTION:11:25am – 2:05pm
URL:https://www.mags.school.nz/event/11dr1-12dr1-3-13dr1-13dra-q-theatre-city/
END:VEVENT
END:VCALENDAR